Package: HIVcDNAvantWout03 Version: 1.46.0 Command: /home/biocbuild/bbs-3.20-bioc/R/bin/R CMD build --keep-empty-dirs --no-resave-data HIVcDNAvantWout03 StartedAt: 2025-01-30 11:23:31 -0500 (Thu, 30 Jan 2025) EndedAt: 2025-01-30 11:23:36 -0500 (Thu, 30 Jan 2025) EllapsedTime: 5.2 seconds RetCode: 0 Status: OK PackageFile: HIVcDNAvantWout03_1.46.0.tar.gz PackageFileSize: 1.711 MiB