Package: GWASdata Version: 1.44.0 Command: /home/biocbuild/bbs-3.20-bioc/R/bin/R CMD INSTALL GWASdata StartedAt: 2025-01-30 10:57:59 -0500 (Thu, 30 Jan 2025) EndedAt: 2025-01-30 10:58:07 -0500 (Thu, 30 Jan 2025) EllapsedTime: 7.9 seconds RetCode: 0 Status: OK