Package: GWASdata Version: 1.44.0 Command: /home/biocbuild/bbs-3.20-bioc/R/bin/R CMD check --install=check:GWASdata.install-out.txt --library=/home/biocbuild/bbs-3.20-bioc/R/site-library --timings GWASdata_1.44.0.tar.gz StartedAt: 2025-01-30 12:07:51 -0500 (Thu, 30 Jan 2025) EndedAt: 2025-01-30 12:08:31 -0500 (Thu, 30 Jan 2025) EllapsedTime: 39.3 seconds RetCode: 0 Status: OK CheckDir: GWASdata.Rcheck Warnings: 0