Package: GSE103322 Version: 1.12.0 Command: /home/biocbuild/bbs-3.20-bioc/R/bin/R CMD build --keep-empty-dirs --no-resave-data GSE103322 StartedAt: 2025-01-30 11:19:30 -0500 (Thu, 30 Jan 2025) EndedAt: 2025-01-30 11:20:09 -0500 (Thu, 30 Jan 2025) EllapsedTime: 38.8 seconds RetCode: 0 Status: OK PackageFile: GSE103322_1.12.0.tar.gz PackageFileSize: 218.7 KiB