Package: DAPARdata Version: 1.36.0 Command: /home/biocbuild/bbs-3.20-bioc/R/bin/R CMD check --install=check:DAPARdata.install-out.txt --library=/home/biocbuild/bbs-3.20-bioc/R/site-library --timings DAPARdata_1.36.0.tar.gz StartedAt: 2025-01-30 11:55:19 -0500 (Thu, 30 Jan 2025) EndedAt: 2025-01-30 11:59:05 -0500 (Thu, 30 Jan 2025) EllapsedTime: 226.0 seconds RetCode: 0 Status: OK CheckDir: DAPARdata.Rcheck Warnings: 0