Package: BloodCancerMultiOmics2017 Version: 1.26.0 Command: /home/biocbuild/bbs-3.20-bioc/R/bin/R CMD INSTALL BloodCancerMultiOmics2017 StartedAt: 2025-01-30 11:00:42 -0500 (Thu, 30 Jan 2025) EndedAt: 2025-01-30 11:01:31 -0500 (Thu, 30 Jan 2025) EllapsedTime: 49.6 seconds RetCode: 0 Status: OK