Package: BloodCancerMultiOmics2017 Version: 1.26.0 Command: /home/biocbuild/bbs-3.20-bioc/R/bin/R CMD build --keep-empty-dirs --no-resave-data BloodCancerMultiOmics2017 StartedAt: 2025-01-30 11:07:08 -0500 (Thu, 30 Jan 2025) EndedAt: 2025-01-30 11:35:53 -0500 (Thu, 30 Jan 2025) EllapsedTime: 1725.0 seconds RetCode: 0 Status: OK PackageFile: BloodCancerMultiOmics2017_1.26.0.tar.gz PackageFileSize: 53.69 MiB