Package: mzR Version: 2.41.1 Command: /home/rapidbuild/bbs-3.21-bioc-rapid/R/bin/R CMD build --keep-empty-dirs --no-resave-data mzR StartedAt: 2025-02-02 07:06:11 -0500 (Sun, 02 Feb 2025) EndedAt: 2025-02-02 07:13:01 -0500 (Sun, 02 Feb 2025) EllapsedTime: 409.6 seconds RetCode: 0 Status: OK PackageFile: mzR_2.41.1.tar.gz PackageFileSize: 7.363 MiB