Package: multtest Version: 2.63.0 Command: /home/rapidbuild/bbs-3.21-bioc-rapid/R/bin/R CMD INSTALL multtest StartedAt: 2025-02-02 06:11:03 -0500 (Sun, 02 Feb 2025) EndedAt: 2025-02-02 06:11:12 -0500 (Sun, 02 Feb 2025) EllapsedTime: 9.0 seconds RetCode: 0 Status: OK