Package: multtest Version: 2.63.0 Command: /home/rapidbuild/bbs-3.21-bioc-rapid/R/bin/R CMD build --keep-empty-dirs --no-resave-data multtest StartedAt: 2025-02-02 07:06:03 -0500 (Sun, 02 Feb 2025) EndedAt: 2025-02-02 07:06:04 -0500 (Sun, 02 Feb 2025) EllapsedTime: 1.0 seconds RetCode: 0 Status: OK PackageFile: multtest_2.63.0.tar.gz PackageFileSize: 1.235 MiB