Package: gcrma Version: 2.79.0 Command: /home/rapidbuild/bbs-3.21-bioc-rapid/R/bin/R CMD INSTALL gcrma StartedAt: 2025-02-02 06:23:01 -0500 (Sun, 02 Feb 2025) EndedAt: 2025-02-02 06:23:10 -0500 (Sun, 02 Feb 2025) EllapsedTime: 8.6 seconds RetCode: 0 Status: OK