Package: flowViz Version: 1.71.0 Command: /home/rapidbuild/bbs-3.21-bioc-rapid/R/bin/R CMD INSTALL flowViz StartedAt: 2025-01-31 06:13:46 -0500 (Fri, 31 Jan 2025) EndedAt: 2025-01-31 06:13:55 -0500 (Fri, 31 Jan 2025) EllapsedTime: 8.9 seconds RetCode: 0 Status: OK