Package: flowViz Version: 1.71.0 Command: /home/rapidbuild/bbs-3.21-bioc-rapid/R/bin/R CMD check --install=check:flowViz.install-out.txt --library=/home/rapidbuild/bbs-3.21-bioc-rapid/R/site-library --timings flowViz_1.71.0.tar.gz StartedAt: 2025-01-31 08:33:47 -0500 (Fri, 31 Jan 2025) EndedAt: 2025-01-31 08:35:58 -0500 (Fri, 31 Jan 2025) EllapsedTime: 131.3 seconds RetCode: 0 Status: OK CheckDir: flowViz.Rcheck Warnings: 0