Package: flowViz Version: 1.71.0 Command: /home/rapidbuild/bbs-3.21-bioc-rapid/R/bin/R CMD build --keep-empty-dirs --no-resave-data flowViz StartedAt: 2025-01-31 06:53:18 -0500 (Fri, 31 Jan 2025) EndedAt: 2025-01-31 06:54:13 -0500 (Fri, 31 Jan 2025) EllapsedTime: 54.6 seconds RetCode: 0 Status: OK PackageFile: flowViz_1.71.0.tar.gz PackageFileSize: 989.1 KiB