Package: enrichplot Version: 1.27.4 Maintainer: Guangchuang Yu MaintainerEmail: guangchuangyu at gmail.com git_url: https://git.bioconductor.org/packages/enrichplot git_branch: devel git_last_commit: 2ee77c6 git_last_commit_date: 2025-01-07 21:35:24 -0500 (Tue, 07 Jan 2025)