Package: biovizBase Version: 1.55.0 Maintainer: Michael Lawrence MaintainerEmail: michafla at gene.com git_url: https://git.bioconductor.org/packages/biovizBase git_branch: devel git_last_commit: 85d7c94 git_last_commit_date: 2024-10-29 09:38:40 -0500 (Tue, 29 Oct 2024)