Package: affxparser Version: 1.79.1 Maintainer: Kasper Daniel Hansen MaintainerEmail: kasperdanielhansen at gmail.com git_url: https://git.bioconductor.org/packages/affxparser git_branch: devel git_last_commit: d2f1dc2 git_last_commit_date: 2025-01-06 19:06:21 -0500 (Mon, 06 Jan 2025)