Package: TCGAbiolinks Version: 2.35.2 Maintainer: Tiago Chedraoui Silva MaintainerEmail: tiagochst at gmail.com git_url: https://git.bioconductor.org/packages/TCGAbiolinks git_branch: devel git_last_commit: 75cd2330 git_last_commit_date: 2025-01-31 14:21:34 -0500 (Fri, 31 Jan 2025)