Package: SpatialExperiment Version: 1.17.0 Command: /home/rapidbuild/bbs-3.21-bioc-rapid/R/bin/R CMD build --keep-empty-dirs --no-resave-data SpatialExperiment StartedAt: 2025-02-02 07:29:06 -0500 (Sun, 02 Feb 2025) EndedAt: 2025-02-02 07:29:51 -0500 (Sun, 02 Feb 2025) EllapsedTime: 45.2 seconds RetCode: 0 Status: OK PackageFile: SpatialExperiment_1.17.0.tar.gz PackageFileSize: 5.156 MiB