Package: SPIA Version: 2.59.2 Command: /home/rapidbuild/bbs-3.21-bioc-rapid/R/bin/R CMD build --keep-empty-dirs --no-resave-data SPIA StartedAt: 2025-02-02 07:29:19 -0500 (Sun, 02 Feb 2025) EndedAt: 2025-02-02 07:33:09 -0500 (Sun, 02 Feb 2025) EllapsedTime: 230.3 seconds RetCode: 0 Status: OK PackageFile: SPIA_2.59.2.tar.gz PackageFileSize: 2.549 MiB