Package: S4Vectors Version: 0.45.2 Command: /home/rapidbuild/bbs-3.21-bioc-rapid/R/bin/R CMD check --install=check:S4Vectors.install-out.txt --library=/home/rapidbuild/bbs-3.21-bioc-rapid/R/site-library --timings S4Vectors_0.45.2.tar.gz StartedAt: 2025-02-02 08:57:26 -0500 (Sun, 02 Feb 2025) EndedAt: 2025-02-02 08:58:55 -0500 (Sun, 02 Feb 2025) EllapsedTime: 88.6 seconds RetCode: 0 Status: WARNINGS CheckDir: S4Vectors.Rcheck Warnings: 2