Package: RBGL Version: 1.83.0 Command: /home/rapidbuild/bbs-3.21-bioc-rapid/R/bin/R CMD INSTALL RBGL StartedAt: 2025-02-02 06:09:21 -0500 (Sun, 02 Feb 2025) EndedAt: 2025-02-02 06:10:46 -0500 (Sun, 02 Feb 2025) EllapsedTime: 84.9 seconds RetCode: 0 Status: OK