Package: RBGL Version: 1.83.0 Command: /home/rapidbuild/bbs-3.21-bioc-rapid/R/bin/R CMD build --keep-empty-dirs --no-resave-data RBGL StartedAt: 2025-02-02 07:12:55 -0500 (Sun, 02 Feb 2025) EndedAt: 2025-02-02 07:14:30 -0500 (Sun, 02 Feb 2025) EllapsedTime: 94.5 seconds RetCode: 0 Status: OK PackageFile: RBGL_1.83.0.tar.gz PackageFileSize: 3.84 MiB