Package: MsFeatures Version: 1.15.0 Command: /home/rapidbuild/bbs-3.21-bioc-rapid/R/bin/R CMD INSTALL MsFeatures StartedAt: 2024-12-07 12:19:51 -0500 (Sat, 07 Dec 2024) EndedAt: 2024-12-07 12:20:09 -0500 (Sat, 07 Dec 2024) EllapsedTime: 18.4 seconds RetCode: 0 Status: OK