Package: ExperimentHub Version: 2.15.0 Command: /home/rapidbuild/bbs-3.21-bioc-rapid/R/bin/R CMD check --install=check:ExperimentHub.install-out.txt --library=/home/rapidbuild/bbs-3.21-bioc-rapid/R/site-library --timings ExperimentHub_2.15.0.tar.gz StartedAt: 2025-02-02 08:07:06 -0500 (Sun, 02 Feb 2025) EndedAt: 2025-02-02 08:08:30 -0500 (Sun, 02 Feb 2025) EllapsedTime: 84.3 seconds RetCode: 0 Status: WARNINGS CheckDir: ExperimentHub.Rcheck Warnings: 1