Package: DropletUtils Version: 1.27.2 Command: /home/rapidbuild/bbs-3.21-bioc-rapid/R/bin/R CMD check --install=check:DropletUtils.install-out.txt --library=/home/rapidbuild/bbs-3.21-bioc-rapid/R/site-library --timings DropletUtils_1.27.2.tar.gz StartedAt: 2025-02-02 08:02:24 -0500 (Sun, 02 Feb 2025) EndedAt: 2025-02-02 08:06:57 -0500 (Sun, 02 Feb 2025) EllapsedTime: 273.5 seconds RetCode: 0 Status: WARNINGS CheckDir: DropletUtils.Rcheck Warnings: 1