Package: Category Version: 2.73.0 Command: /home/rapidbuild/bbs-3.21-bioc-rapid/R/bin/R CMD INSTALL Category StartedAt: 2025-02-02 06:22:25 -0500 (Sun, 02 Feb 2025) EndedAt: 2025-02-02 06:22:43 -0500 (Sun, 02 Feb 2025) EllapsedTime: 17.4 seconds RetCode: 0 Status: OK