Package: AnnotationHub Version: 3.15.0 Command: /home/rapidbuild/bbs-3.21-bioc-rapid/R/bin/R CMD check --install=check:AnnotationHub.install-out.txt --library=/home/rapidbuild/bbs-3.21-bioc-rapid/R/site-library --timings AnnotationHub_3.15.0.tar.gz StartedAt: 2025-02-02 07:39:59 -0500 (Sun, 02 Feb 2025) EndedAt: 2025-02-02 07:44:17 -0500 (Sun, 02 Feb 2025) EllapsedTime: 258.2 seconds RetCode: 0 Status: OK CheckDir: AnnotationHub.Rcheck Warnings: 0