Package: midasHLA Version: 1.14.0 Command: /Library/Frameworks/R.framework/Resources/bin/R CMD check --test-dir=longtests --no-stop-on-test-error --no-codoc --no-examples --no-manual --ignore-vignettes --check-subdirs=no midasHLA_1.14.0.tar.gz StartedAt: 2025-01-25 16:10:36 -0500 (Sat, 25 Jan 2025) EndedAt: 2025-01-25 16:14:17 -0500 (Sat, 25 Jan 2025) EllapsedTime: 220.8 seconds RetCode: 1 Status: ERROR CheckDir: midasHLA.Rcheck Warnings: NA