Back to Long Tests report for BioC 3.19 |
This page was generated on 2024-06-22 23:55 -0400 (Sat, 22 Jun 2024).
Hostname | OS | Arch (*) | R version | Installed pkgs |
---|---|---|---|---|
nebbiolo1 | Linux (Ubuntu 22.04.3 LTS) | x86_64 | 4.4.0 (2024-04-24) -- "Puppy Cup" | 4758 |
palomino3 | Windows Server 2022 Datacenter | x64 | 4.4.0 (2024-04-24 ucrt) -- "Puppy Cup" | 4492 |
merida1 | macOS 12.7.4 Monterey | x86_64 | 4.4.0 (2024-04-24) -- "Puppy Cup" | 4506 |
Click on any hostname to see more info about the system (e.g. compilers) (*) as reported by 'uname -p', except on Windows and Mac OS X |
To the developers/maintainers of the ginmappeR package: - Use the following Renviron settings to reproduce errors and warnings. - If 'R CMD check' started to fail recently on the Linux builder(s) over a missing dependency, add the missing dependency to 'Suggests:' in your DESCRIPTION file. See Renviron.bioc for more information. |
Package 24/33 | Hostname | OS / Arch | CHECK | |||||||
ginmappeR 1.0.1 (landing page) Fernando Sola
| nebbiolo1 | Linux (Ubuntu 22.04.3 LTS) / x86_64 | OK | |||||||
palomino3 | Windows Server 2022 Datacenter / x64 | OK | ||||||||
merida1 | macOS 12.7.4 Monterey / x86_64 | OK | ||||||||