Package: yarn Version: 1.32.0 Command: /home/biocbuild/bbs-3.20-bioc/R/bin/R CMD INSTALL yarn StartedAt: 2025-01-30 15:58:45 -0500 (Thu, 30 Jan 2025) EndedAt: 2025-01-30 15:59:29 -0500 (Thu, 30 Jan 2025) EllapsedTime: 43.9 seconds RetCode: 0 Status: OK