Package: yarn Version: 1.32.0 Command: /Library/Frameworks/R.framework/Resources/bin/R CMD INSTALL yarn StartedAt: 2025-01-30 16:43:08 -0500 (Thu, 30 Jan 2025) EndedAt: 2025-01-30 16:44:47 -0500 (Thu, 30 Jan 2025) EllapsedTime: 99.0 seconds RetCode: 0 Status: OK