Package: xenLite Version: 1.0.0 Command: /home/biocbuild/R/R/bin/R CMD INSTALL xenLite StartedAt: 2025-01-30 20:39:52 -0000 (Thu, 30 Jan 2025) EndedAt: 2025-01-30 20:40:31 -0000 (Thu, 30 Jan 2025) EllapsedTime: 38.4 seconds RetCode: 0 Status: OK