Package: xcore Version: 1.10.0 Command: /Library/Frameworks/R.framework/Resources/bin/R CMD INSTALL xcore StartedAt: 2025-01-30 16:13:36 -0500 (Thu, 30 Jan 2025) EndedAt: 2025-01-30 16:14:28 -0500 (Thu, 30 Jan 2025) EllapsedTime: 52.3 seconds RetCode: 0 Status: OK