Package: xcore Version: 1.10.0 Command: /Library/Frameworks/R.framework/Resources/bin/R CMD INSTALL xcore StartedAt: 2025-01-30 17:14:03 -0500 (Thu, 30 Jan 2025) EndedAt: 2025-01-30 17:14:32 -0500 (Thu, 30 Jan 2025) EllapsedTime: 28.7 seconds RetCode: 0 Status: OK