Package: wpm Version: 1.16.0 Command: /home/biocbuild/R/R/bin/R CMD INSTALL wpm StartedAt: 2025-01-30 20:43:18 -0000 (Thu, 30 Jan 2025) EndedAt: 2025-01-30 20:43:22 -0000 (Thu, 30 Jan 2025) EllapsedTime: 4.6 seconds RetCode: 0 Status: OK