Package: wpm Version: 1.16.0 Command: /Library/Frameworks/R.framework/Resources/bin/R CMD build --keep-empty-dirs --no-resave-data wpm StartedAt: 2025-01-30 23:44:19 -0500 (Thu, 30 Jan 2025) EndedAt: 2025-01-30 23:45:02 -0500 (Thu, 30 Jan 2025) EllapsedTime: 42.8 seconds RetCode: 0 Status: OK PackageFile: wpm_1.16.0.tar.gz PackageFileSize: 2.429 MiB