Package: wpm Version: 1.16.0 Command: /Library/Frameworks/R.framework/Resources/bin/R CMD build --keep-empty-dirs --no-resave-data wpm StartedAt: 2025-01-31 10:17:31 -0500 (Fri, 31 Jan 2025) EndedAt: 2025-01-31 10:17:57 -0500 (Fri, 31 Jan 2025) EllapsedTime: 26.4 seconds RetCode: 0 Status: OK PackageFile: wpm_1.16.0.tar.gz PackageFileSize: 2.427 MiB