Package: wiggleplotr Version: 1.30.0 Command: /home/biocbuild/R/R/bin/R CMD build --keep-empty-dirs --no-resave-data wiggleplotr StartedAt: 2025-01-31 03:28:19 -0000 (Fri, 31 Jan 2025) EndedAt: 2025-01-31 03:29:07 -0000 (Fri, 31 Jan 2025) EllapsedTime: 48.0 seconds RetCode: 0 Status: OK PackageFile: wiggleplotr_1.30.0.tar.gz PackageFileSize: 213.2 KiB