Package: wiggleplotr Version: 1.30.0 Command: /Library/Frameworks/R.framework/Resources/bin/R CMD build --keep-empty-dirs --no-resave-data wiggleplotr StartedAt: 2024-11-19 19:06:20 -0500 (Tue, 19 Nov 2024) EndedAt: 2024-11-19 19:07:10 -0500 (Tue, 19 Nov 2024) EllapsedTime: 50.1 seconds RetCode: 0 Status: OK PackageFile: wiggleplotr_1.30.0.tar.gz PackageFileSize: 407.7 KiB