Package: wiggleplotr Version: 1.30.0 Command: /Library/Frameworks/R.framework/Resources/bin/R CMD INSTALL wiggleplotr StartedAt: 2025-01-30 15:55:36 -0500 (Thu, 30 Jan 2025) EndedAt: 2025-01-30 15:55:41 -0500 (Thu, 30 Jan 2025) EllapsedTime: 5.1 seconds RetCode: 0 Status: OK