Package: wiggleplotr Version: 1.30.0 Command: /Library/Frameworks/R.framework/Resources/bin/R CMD build --keep-empty-dirs --no-resave-data wiggleplotr StartedAt: 2025-01-31 10:17:31 -0500 (Fri, 31 Jan 2025) EndedAt: 2025-01-31 10:18:16 -0500 (Fri, 31 Jan 2025) EllapsedTime: 45.5 seconds RetCode: 0 Status: OK PackageFile: wiggleplotr_1.30.0.tar.gz PackageFileSize: 407.4 KiB