Package: wiggleplotr Version: 1.30.0 Command: rm -rf wiggleplotr.buildbin-libdir && mkdir wiggleplotr.buildbin-libdir && /Users/biocbuild/BBS/utils/build-universal.sh wiggleplotr_1.30.0.tar.gz /Library/Frameworks/R.framework/Resources/bin/R wiggleplotr.buildbin-libdir StartedAt: 2025-02-01 17:21:58 -0500 (Sat, 01 Feb 2025) EndedAt: 2025-02-01 17:22:05 -0500 (Sat, 01 Feb 2025) EllapsedTime: 6.9 seconds RetCode: 0 Status: OK PackageFile: wiggleplotr_1.30.0.tgz PackageFileSize: 460.9 KiB