Package: widgetTools Version: 1.84.0 Command: F:\biocbuild\bbs-3.20-bioc\R\bin\R.exe CMD check --no-multiarch --install=check:widgetTools.install-out.txt --library=F:\biocbuild\bbs-3.20-bioc\R\library --no-vignettes --timings widgetTools_1.84.0.tar.gz StartedAt: 2025-01-31 07:40:59 -0500 (Fri, 31 Jan 2025) EndedAt: 2025-01-31 07:41:37 -0500 (Fri, 31 Jan 2025) EllapsedTime: 37.8 seconds RetCode: 0 Status: OK CheckDir: widgetTools.Rcheck Warnings: 0