Package: widgetTools Version: 1.84.0 Command: rm -rf widgetTools.buildbin-libdir && mkdir widgetTools.buildbin-libdir && /Users/biocbuild/BBS/utils/build-universal.sh widgetTools_1.84.0.tar.gz /Library/Frameworks/R.framework/Resources/bin/R widgetTools.buildbin-libdir StartedAt: 2025-01-31 13:55:48 -0500 (Fri, 31 Jan 2025) EndedAt: 2025-01-31 13:56:04 -0500 (Fri, 31 Jan 2025) EllapsedTime: 16.3 seconds RetCode: 0 Status: OK PackageFile: widgetTools_1.84.0.tgz PackageFileSize: 453.3 KiB