Package: webbioc Version: 1.78.0 Command: rm -rf webbioc.buildbin-libdir && mkdir webbioc.buildbin-libdir && /Users/biocbuild/BBS/utils/build-universal.sh webbioc_1.78.0.tar.gz /Library/Frameworks/R.framework/Resources/bin/R webbioc.buildbin-libdir StartedAt: 2025-02-01 17:21:25 -0500 (Sat, 01 Feb 2025) EndedAt: 2025-02-01 17:21:51 -0500 (Sat, 01 Feb 2025) EllapsedTime: 26.0 seconds RetCode: 0 Status: OK PackageFile: webbioc_1.78.0.tgz PackageFileSize: 310.8 KiB