Package: weaver Version: 1.72.0 Command: /home/biocbuild/R/R/bin/R CMD build --keep-empty-dirs --no-resave-data weaver StartedAt: 2025-01-31 03:28:00 -0000 (Fri, 31 Jan 2025) EndedAt: 2025-01-31 03:28:05 -0000 (Fri, 31 Jan 2025) EllapsedTime: 5.0 seconds RetCode: 0 Status: OK PackageFile: weaver_1.72.0.tar.gz PackageFileSize: 225.4 KiB