Package: weaver Version: 1.72.0 Command: rm -rf weaver.buildbin-libdir && mkdir weaver.buildbin-libdir && /Users/biocbuild/BBS/utils/build-universal.sh weaver_1.72.0.tar.gz /Library/Frameworks/R.framework/Resources/bin/R weaver.buildbin-libdir StartedAt: 2025-02-01 17:21:22 -0500 (Sat, 01 Feb 2025) EndedAt: 2025-02-01 17:21:25 -0500 (Sat, 01 Feb 2025) EllapsedTime: 3.3 seconds RetCode: 0 Status: OK PackageFile: weaver_1.72.0.tgz PackageFileSize: 271 KiB