Package: wateRmelon Version: 2.12.0 Command: /Library/Frameworks/R.framework/Resources/bin/R CMD INSTALL wateRmelon StartedAt: 2025-01-30 18:06:51 -0500 (Thu, 30 Jan 2025) EndedAt: 2025-01-30 18:07:57 -0500 (Thu, 30 Jan 2025) EllapsedTime: 66.5 seconds RetCode: 0 Status: OK