Package: vsclust Version: 1.8.0 Command: /home/biocbuild/R/R/bin/R CMD INSTALL vsclust StartedAt: 2025-01-30 20:39:20 -0000 (Thu, 30 Jan 2025) EndedAt: 2025-01-30 20:40:00 -0000 (Thu, 30 Jan 2025) EllapsedTime: 40.3 seconds RetCode: 0 Status: OK